BEGIN:VCALENDAR
VERSION:2.0
PRODID:-//ChamberMaster//Event Calendar 2.0//EN
METHOD:PUBLISH
X-PUBLISHED-TTL:P3D
REFRESH-INTERVAL:P3D
CALSCALE:GREGORIAN
BEGIN:VEVENT
DTSTART:20210703T160000Z
DTEND:20210703T190000Z
X-MICROSOFT-CDO-ALLDAYEVENT:FALSE
SUMMARY:4th of July at the Briscoe Garner Museum
DESCRIPTION:Crafts\, refreshments\, games! \n\nFolklorico will be performing at 11am
X-ALT-DESC;FMTTYPE=text/html:Crafts\, refreshments\, games! \n\nFolklorico will be performing at 11am 
LOCATION:Briscoe Garner Museum
UID:e.2154.9547
SEQUENCE:3
DTSTAMP:20260424T093408Z
URL:https://chamber.uvalde.org/events/details/4th-of-july-at-the-briscoe-garner-museum-9547
END:VEVENT

END:VCALENDAR
