BEGIN:VCALENDAR
VERSION:2.0
PRODID:-//ChamberMaster//Event Calendar 2.0//EN
METHOD:PUBLISH
X-PUBLISHED-TTL:P3D
REFRESH-INTERVAL:P3D
CALSCALE:GREGORIAN
BEGIN:VEVENT
DTSTART:20220704T170000Z
DTEND:20220704T190000Z
X-MICROSOFT-CDO-ALLDAYEVENT:FALSE
SUMMARY:4th of July Open House
DESCRIPTION:Join us for entertainment\, refreshments\, and games to celebrate the 4th of July!
X-ALT-DESC;FMTTYPE=text/html:Join us for entertainment\, refreshments\, and games to celebrate the 4th of July!
LOCATION:Briscoe-Garner Museum\, 333 N Park St.
UID:e.2154.9833
SEQUENCE:3
DTSTAMP:20260423T145257Z
URL:https://chamber.uvalde.org/events/details/4th-of-july-open-house-9833
END:VEVENT

END:VCALENDAR
