BEGIN:VCALENDAR
VERSION:2.0
PRODID:-//ChamberMaster//Event Calendar 2.0//EN
METHOD:PUBLISH
X-PUBLISHED-TTL:P3D
REFRESH-INTERVAL:P3D
CALSCALE:GREGORIAN
BEGIN:VEVENT
DTSTART:20191026T200000Z
DTEND:20191027T010000Z
X-MICROSOFT-CDO-ALLDAYEVENT:FALSE
SUMMARY:501 Ranch Cactus Jack Family Festival
DESCRIPTION:Family Friendly Fun\n\nFood\, Train Rides\, Petting Zoo\, Helicopter Rides\, Pumpkin Patch\, Sahawe Dancers\, Silent Auction\, Face Painting\, Balloon Twisting\, Caricatures
X-ALT-DESC;FMTTYPE=text/html:Family Friendly Fun<br />\nFood\, Train Rides\, Petting Zoo\, Helicopter Rides\, Pumpkin Patch\, Sahawe Dancers\, Silent Auction\, Face Painting\, Balloon Twisting\, Caricatures
LOCATION:501 Ranch
UID:e.2154.9210
SEQUENCE:3
DTSTAMP:20260425T212659Z
URL:https://chamber.uvalde.org/events/details/501-ranch-cactus-jack-family-festival-9210
END:VEVENT

END:VCALENDAR
