BEGIN:VCALENDAR
VERSION:2.0
PRODID:-//ChamberMaster//Event Calendar 2.0//EN
METHOD:PUBLISH
X-PUBLISHED-TTL:P3D
REFRESH-INTERVAL:P3D
CALSCALE:GREGORIAN
BEGIN:VEVENT
DTSTART:20200320T170000Z
DTEND:20200320T173000Z
X-MICROSOFT-CDO-ALLDAYEVENT:FALSE
SUMMARY:Anderson House Ribbon Cutting
DESCRIPTION:Come help cut the ribbon and be a part of this exciting opening!
X-ALT-DESC;FMTTYPE=text/html:Come help cut the ribbon and be a part of this exciting opening!
LOCATION:105 North Piper Lane
UID:e.2154.9267
SEQUENCE:3
DTSTAMP:20260425T142912Z
URL:https://chamber.uvalde.org/events/details/anderson-house-ribbon-cutting-9267
END:VEVENT

END:VCALENDAR
