BEGIN:VCALENDAR
VERSION:2.0
PRODID:-//ChamberMaster//Event Calendar 2.0//EN
METHOD:PUBLISH
X-PUBLISHED-TTL:P3D
REFRESH-INTERVAL:P3D
CALSCALE:GREGORIAN
BEGIN:VEVENT
DTSTART:20191116T150000Z
DTEND:20191116T220000Z
X-MICROSOFT-CDO-ALLDAYEVENT:FALSE
SUMMARY:Arts & Crafts Fair
DESCRIPTION:
X-ALT-DESC;FMTTYPE=text/html:
LOCATION:Herby Ham Activity Center 248 FM 3447 Uvalde\, Texas 78801
UID:e.2154.9233
SEQUENCE:3
DTSTAMP:20260425T191837Z
URL:https://chamber.uvalde.org/events/details/arts-crafts-fair-9233
END:VEVENT

END:VCALENDAR
