BEGIN:VCALENDAR
VERSION:2.0
PRODID:-//ChamberMaster//Event Calendar 2.0//EN
METHOD:PUBLISH
X-PUBLISHED-TTL:P3D
REFRESH-INTERVAL:P3D
CALSCALE:GREGORIAN
BEGIN:VEVENT
DTSTART;VALUE=DATE:20191005
DTEND;VALUE=DATE:20191006
TRANSP:TRANSPARENT
X-MICROSOFT-CDO-ALLDAYEVENT:TRUE
SUMMARY:Brian Faglie Memorial Dog Walk
DESCRIPTION:5k registration begins at 8am\, Run starts at 9am
X-ALT-DESC;FMTTYPE=text/html:5k registration begins at 8am\, Run starts at 9am
LOCATION:Uvalde Memorial Park
UID:e.2154.9161
SEQUENCE:3
DTSTAMP:20260425T212536Z
URL:https://chamber.uvalde.org/events/details/brian-faglie-memorial-dog-walk-9161
END:VEVENT

END:VCALENDAR
