BEGIN:VCALENDAR
VERSION:2.0
PRODID:-//ChamberMaster//Event Calendar 2.0//EN
METHOD:PUBLISH
X-PUBLISHED-TTL:P3D
REFRESH-INTERVAL:P3D
CALSCALE:GREGORIAN
BEGIN:VEVENT
DTSTART:20190727T160000Z
DTEND:20190727T180000Z
X-MICROSOFT-CDO-ALLDAYEVENT:FALSE
SUMMARY:Bug Safari #4
DESCRIPTION:Activity kits are available for the first lucky thirty students to register. Designed for middle school youth in out-of -school time\, SAC features hands-on science kits that spark curiosity and inspire wonder for the naturalworld. Through games\, projects\, and exciting investigations\, youth in SA Cexplorenature\, contribute to authentic science research\, and design creative strategies to protect the planet. Those\n\n\n\n\n\ninterested should call or text Deyanira Salazar at 830-279-7632 for further information and to enroll.
X-ALT-DESC;FMTTYPE=text/html:<div class="page" style="caret-color: rgb(0\, 0\, 0)\; color: rgb(0\, 0\, 0)\; font-family: -webkit-standard\;" title="Page 1">\n<div class="section">\n<div class="layoutArea">\n<div class="column">\n<p><span style="font-size: 12pt\; font-family: TimesNewRomanPSMT\; color: rgb(29\, 34\, 40)\;">Activity kits are available for the first lucky thirty students to register. Designed for middle school youth in out-of -school time\, SAC features hands-on science kits that spark curiosity and inspire wonder for the naturalworld. Through games\, projects\, and exciting investigations\, youth in SA Cexplorenature\, contribute to authentic science research\, and design creative strategies to protect the planet</span><span style="font-size: 12pt\; font-family: TimesNewRomanPSMT\;">. Those</span></p>\n\n<div class="page" title="Page 2">\n<div class="section" style="background-color: rgb(255\, 255\, 255)\;">\n<div class="layoutArea">\n<div class="column">\n<p><span style="font-size: 12pt\; font-family: TimesNewRomanPSMT\;">interested should call or text Deyanira Salazar at 830-279-7632 for further information and to enroll.</span></p>\n</div>\n</div>\n</div>\n</div>\n</div>\n</div>\n</div>\n</div>\n
LOCATION:El Progreso Memorial Library
UID:e.2154.7518
SEQUENCE:3
DTSTAMP:20260426T040754Z
URL:https://chamber.uvalde.org/events/details/bug-safari-4-7518
END:VEVENT

END:VCALENDAR
