BEGIN:VCALENDAR
VERSION:2.0
PRODID:-//ChamberMaster//Event Calendar 2.0//EN
METHOD:PUBLISH
X-PUBLISHED-TTL:P3D
REFRESH-INTERVAL:P3D
CALSCALE:GREGORIAN
BEGIN:VEVENT
DTSTART:20191103T003000Z
DTEND:20191103T013000Z
X-MICROSOFT-CDO-ALLDAYEVENT:FALSE
SUMMARY:Cabaret
DESCRIPTION:A night of your favorite songs from the best musical theater has to offer.\n\nTickets coming soon!\n\nFor more information: 830.278.4184
X-ALT-DESC;FMTTYPE=text/html:<p style="font-family: proxima-nova\; font-size: 15px\; letter-spacing: 0.30000001192092896px\; line-height: 1.6em\; margin: 0px 0px 24px\; word-wrap: break-word\; caret-color: rgb(68\, 68\, 68)\; color: rgb(68\, 68\, 68)\; white-space: pre-wrap\;">A night of your favorite songs from the best musical theater has to offer.</p>\n\n<p style="font-family: proxima-nova\; font-size: 15px\; letter-spacing: 0.30000001192092896px\; line-height: 1.6em\; margin: 24px 0px 0px\; word-wrap: break-word\; caret-color: rgb(68\, 68\, 68)\; color: rgb(68\, 68\, 68)\; white-space: pre-wrap\;">Tickets coming soon!<br />\nFor more information: 830.278.4184</p>\n
LOCATION:Uvalde Opera House
UID:e.2154.7497
SEQUENCE:3
DTSTAMP:20260425T191842Z
URL:https://chamber.uvalde.org/events/details/cabaret-7497
END:VEVENT

END:VCALENDAR
