BEGIN:VCALENDAR
VERSION:2.0
PRODID:-//ChamberMaster//Event Calendar 2.0//EN
METHOD:PUBLISH
X-PUBLISHED-TTL:P3D
REFRESH-INTERVAL:P3D
CALSCALE:GREGORIAN
BEGIN:VEVENT
DTSTART:20221112T190000Z
DTEND:20221112T210000Z
X-MICROSOFT-CDO-ALLDAYEVENT:FALSE
SUMMARY:Cactus Painting at the BGM
DESCRIPTION:Join us as we paint a cactus painting in honor of Cactus Jack's birthday month Cost of class is $25\, which includes all supplies and instruction Class sizes will be limited\, so reserve your spot today!
X-ALT-DESC;FMTTYPE=text/html:Join us as we paint a cactus painting in honor of Cactus Jack&#39\;s birthday month Cost of class is $25\, which includes all supplies and instruction Class sizes will be limited\, so reserve your spot today!
LOCATION:Briscoe-Garner Museum 333 N Park St Uvalde\, TX
UID:e.2154.9841
SEQUENCE:3
DTSTAMP:20260423T082604Z
URL:https://chamber.uvalde.org/events/details/cactus-painting-at-the-bgm-9841
END:VEVENT

END:VCALENDAR
