BEGIN:VCALENDAR
VERSION:2.0
PRODID:-//ChamberMaster//Event Calendar 2.0//EN
METHOD:PUBLISH
X-PUBLISHED-TTL:P3D
REFRESH-INTERVAL:P3D
CALSCALE:GREGORIAN
BEGIN:VEVENT
DTSTART:20190725T150000Z
DTEND:20190727T210000Z
X-MICROSOFT-CDO-ALLDAYEVENT:FALSE
SUMMARY:Christmas in July
DESCRIPTION:Herby Ham Activity Center\n\nChristmas in July\n\nFeaturing an expanded selection of locally made craft & gift items
X-ALT-DESC;FMTTYPE=text/html:Herby Ham Activity Center<br />\nChristmas in July<br />\nFeaturing an expanded selection of locally made craft &amp\; gift items
LOCATION:HHAC 248 FM 3447 Uvalde\, Texas 78801
UID:e.2154.8567
SEQUENCE:3
DTSTAMP:20260426T023418Z
URL:https://chamber.uvalde.org/events/details/christmas-in-july-8567
END:VEVENT

END:VCALENDAR
