BEGIN:VCALENDAR
VERSION:2.0
PRODID:-//ChamberMaster//Event Calendar 2.0//EN
METHOD:PUBLISH
X-PUBLISHED-TTL:P3D
REFRESH-INTERVAL:P3D
CALSCALE:GREGORIAN
BEGIN:VEVENT
DTSTART:20210622T230000Z
DTEND:20210623T003000Z
X-MICROSOFT-CDO-ALLDAYEVENT:FALSE
SUMMARY:City of Uvalde City Council Meeting
DESCRIPTION:City Council meetings are held every 2nd and 4th Tuesday at 6:00pm in the second floor of City Hall at 101 East Main Street.
X-ALT-DESC;FMTTYPE=text/html:City Council meetings are held every 2nd and 4th Tuesday at 6:00pm in the second floor of City Hall at 101 East Main Street.
LOCATION:
UID:e.2154.9414
SEQUENCE:3
DTSTAMP:20260424T110747Z
URL:https://chamber.uvalde.org/events/details/city-of-uvalde-city-council-meeting-06-22-2021-9414
END:VEVENT

END:VCALENDAR
