BEGIN:VCALENDAR
VERSION:2.0
PRODID:-//ChamberMaster//Event Calendar 2.0//EN
METHOD:PUBLISH
X-PUBLISHED-TTL:P3D
REFRESH-INTERVAL:P3D
CALSCALE:GREGORIAN
BEGIN:VEVENT
DTSTART:20200403T140000Z
DTEND:20200403T150000Z
X-MICROSOFT-CDO-ALLDAYEVENT:FALSE
SUMMARY:Country Junction Minits Ribbon Cutting POSTPONED UNTIL FUTURE DATE
DESCRIPTION:Come help cut the ribbon as we welcome this beautiful new business to our community!
X-ALT-DESC;FMTTYPE=text/html:Come help cut the ribbon as we welcome this beautiful new business to our community!&nbsp\;
LOCATION:Country Junction - Intersection of Highway 55 and 83 North
UID:e.2154.9530
SEQUENCE:3
DTSTAMP:20260425T105609Z
URL:https://chamber.uvalde.org/events/details/country-junction-minits-ribbon-cutting-postponed-until-future-date-9530
END:VEVENT

END:VCALENDAR
