BEGIN:VCALENDAR
VERSION:2.0
PRODID:-//ChamberMaster//Event Calendar 2.0//EN
METHOD:PUBLISH
X-PUBLISHED-TTL:P3D
REFRESH-INTERVAL:P3D
CALSCALE:GREGORIAN
BEGIN:VEVENT
DTSTART:20220409T150000Z
DTEND:20220409T170000Z
X-MICROSOFT-CDO-ALLDAYEVENT:FALSE
SUMMARY:Easter Egg Hunt at the Briscoe Garner Museum
DESCRIPTION:Join us for the first annual Easter egg hunt at the Briscoe Garner Museum! We will have a separate hunt for children 5 & under. The hunt will begin at 10:30am! We will have refreshments and crafts during the entire event.
X-ALT-DESC;FMTTYPE=text/html:Join us for the first annual Easter egg hunt at the Briscoe Garner Museum! We will have a separate hunt for children 5 &amp\; under. The hunt will begin at 10:30am! We will have refreshments and crafts during the entire event.
LOCATION:Briscoe Garner Museum
UID:e.2154.9828
SEQUENCE:3
DTSTAMP:20260423T212851Z
URL:https://chamber.uvalde.org/events/details/easter-egg-hunt-at-the-briscoe-garner-museum-9828
END:VEVENT

END:VCALENDAR
