BEGIN:VCALENDAR
VERSION:2.0
PRODID:-//ChamberMaster//Event Calendar 2.0//EN
METHOD:PUBLISH
X-PUBLISHED-TTL:P3D
REFRESH-INTERVAL:P3D
CALSCALE:GREGORIAN
BEGIN:VEVENT
DTSTART:20190802T170000Z
DTEND:20190802T180000Z
X-MICROSOFT-CDO-ALLDAYEVENT:FALSE
SUMMARY:EZ Nutrition Ribbon Cutting
DESCRIPTION:EZ Nutrition Ribbon Cutting!
X-ALT-DESC;FMTTYPE=text/html:EZ Nutrition Ribbon Cutting!
LOCATION:588 W Main\, Uvalde\, Texas
UID:e.2154.9153
SEQUENCE:3
DTSTAMP:20260426T004002Z
URL:https://chamber.uvalde.org/events/details/ez-nutrition-ribbon-cutting-9153
END:VEVENT

END:VCALENDAR
