BEGIN:VCALENDAR
VERSION:2.0
PRODID:-//ChamberMaster//Event Calendar 2.0//EN
METHOD:PUBLISH
X-PUBLISHED-TTL:P3D
REFRESH-INTERVAL:P3D
CALSCALE:GREGORIAN
BEGIN:VEVENT
DTSTART:20191019T150000Z
DTEND:20191019T200000Z
X-MICROSOFT-CDO-ALLDAYEVENT:FALSE
SUMMARY:Fall Festival On The Frio
DESCRIPTION:Food Trucks\, Craft Vendors\, Live Music\, Pumpkin Patch\, Kids Activities & so much more!\n\nBring the whole family and come out to a day of fun!\n\nSponsored by Texas Hill Country River Region
X-ALT-DESC;FMTTYPE=text/html:Food Trucks\, Craft Vendors\, Live Music\, Pumpkin Patch\, Kids Activities &amp\; so much more!<br />\nBring the whole family and come out to a day of fun!<br />\nSponsored by Texas Hill Country River Region
LOCATION:
UID:e.2154.9164
SEQUENCE:3
DTSTAMP:20260425T211630Z
URL:https://chamber.uvalde.org/events/details/fall-festival-on-the-frio-9164
END:VEVENT

END:VCALENDAR
