BEGIN:VCALENDAR
VERSION:2.0
PRODID:-//ChamberMaster//Event Calendar 2.0//EN
METHOD:PUBLISH
X-PUBLISHED-TTL:P3D
REFRESH-INTERVAL:P3D
CALSCALE:GREGORIAN
BEGIN:VEVENT
DTSTART:20191122T163000Z
DTEND:20191122T210000Z
X-MICROSOFT-CDO-ALLDAYEVENT:FALSE
SUMMARY:First State Bank of Uvalde 50th Anniversary Celebration
DESCRIPTION:Join us as we celebrate 50 years in our East Nopal building!\n\nSpecial observance at 10:30am
X-ALT-DESC;FMTTYPE=text/html:Join us as we celebrate 50 years in our East Nopal building!<br />\nSpecial observance at 10:30am
LOCATION:200 E Nopal Uvalde\, Texas 78801
UID:e.2154.9230
SEQUENCE:3
DTSTAMP:20260425T192046Z
URL:https://chamber.uvalde.org/events/details/first-state-bank-of-uvalde-50th-anniversary-celebration-9230
END:VEVENT

END:VCALENDAR
