BEGIN:VCALENDAR
VERSION:2.0
PRODID:-//ChamberMaster//Event Calendar 2.0//EN
METHOD:PUBLISH
X-PUBLISHED-TTL:P3D
REFRESH-INTERVAL:P3D
CALSCALE:GREGORIAN
BEGIN:VEVENT
DTSTART:20190831T150000Z
DTEND:20190901T040000Z
X-MICROSOFT-CDO-ALLDAYEVENT:FALSE
SUMMARY:First State Bank of Uvalde Palomino Fest Labor Day Grand Parade
DESCRIPTION:This year's parade route will begin at the 1000 block of North Getty street and travel South to Nopal Street\, concluding 300 block of East Nopal Street.\n\n \n\nThe 2019 Parade Theme is: "Golden Oldies"\n\n \n\nPlease submit your parade entry application ASAP!\n\n\n\nApplications and parade rules can be found at www.uvalde.org/parade
X-ALT-DESC;FMTTYPE=text/html:<span style="caret-color: rgb(29\, 33\, 41)\; color: rgb(29\, 33\, 41)\; font-family: system-ui\, -apple-system\, BlinkMacSystemFont\, &quot\;.SFNSText-Regular&quot\;\, sans-serif\; font-size: 14px\;">This year&#39\;s parade route will begin at the 1000 block of North Getty street and travel South to Nopal Street\, concluding 300 block of East Nopal Street.</span><br style="caret-color: rgb(29\, 33\, 41)\; color: rgb(29\, 33\, 41)\; font-family: system-ui\, -apple-system\, BlinkMacSystemFont\, &quot\;.SFNSText-Regular&quot\;\, sans-serif\; font-size: 14px\;" />\n<span style="caret-color: rgb(29\, 33\, 41)\; color: rgb(29\, 33\, 41)\; font-family: system-ui\, -apple-system\, BlinkMacSystemFont\, &quot\;.SFNSText-Regular&quot\;\, sans-serif\; font-size: 14px\;">&#8203\;</span><br style="caret-color: rgb(29\, 33\, 41)\; color: rgb(29\, 33\, 41)\; font-family: system-ui\, -apple-system\, BlinkMacSystemFont\, &quot\;.SFNSText-Regular&quot\;\, sans-serif\; font-size: 14px\;" />\n<span style="caret-color: rgb(29\, 33\, 41)\; color: rgb(29\, 33\, 41)\; font-family: system-ui\, -apple-system\, BlinkMacSystemFont\, &quot\;.SFNSText-Regular&quot\;\, sans-serif\; font-size: 14px\;">The 2019 Parade Theme is: &quot\;Golden Oldies&quot\;</span><br style="caret-color: rgb(29\, 33\, 41)\; color: rgb(29\, 33\, 41)\; font-family: system-ui\, -apple-system\, BlinkMacSystemFont\, &quot\;.SFNSText-Regular&quot\;\, sans-serif\; font-size: 14px\;" />\n<span style="caret-color: rgb(29\, 33\, 41)\; color: rgb(29\, 33\, 41)\; font-family: system-ui\, -apple-system\, BlinkMacSystemFont\, &quot\;.SFNSText-Regular&quot\;\, sans-serif\; font-size: 14px\;">&#8203\;</span><br style="caret-color: rgb(29\, 33\, 41)\; color: rgb(29\, 33\, 41)\; font-family: system-ui\, -apple-system\, BlinkMacSystemFont\, &quot\;.SFNSText-Regular&quot\;\, sans-serif\; font-size: 14px\;" />\n<span style="caret-color: rgb(29\, 33\, 41)\; color: rgb(29\, 33\, 41)\; font-family: system-ui\, -apple-system\, BlinkMacSystemFont\, &quot\;.SFNSText-Regular&quot\;\, sans-serif\; font-size: 14px\;">Please submit your parade entry application ASAP!</span><br style="caret-color: rgb(29\, 33\, 41)\; color: rgb(29\, 33\, 41)\; font-family: system-ui\, -apple-system\, BlinkMacSystemFont\, &quot\;.SFNSText-Regular&quot\;\, sans-serif\; font-size: 14px\;" />\n<br style="caret-color: rgb(29\, 33\, 41)\; color: rgb(29\, 33\, 41)\; font-family: system-ui\, -apple-system\, BlinkMacSystemFont\, &quot\;.SFNSText-Regular&quot\;\, sans-serif\; font-size: 14px\;" />\n<span style="caret-color: rgb(29\, 33\, 41)\; color: rgb(29\, 33\, 41)\; font-family: system-ui\, -apple-system\, BlinkMacSystemFont\, &quot\;.SFNSText-Regular&quot\;\, sans-serif\; font-size: 14px\;">Applications and parade rules can be found at&nbsp\;</span><a href="https://l.facebook.com/l.php?u=http%3A%2F%2Fwww.uvalde.org%2Fparade&amp\;h=AT0lL1eG29HZ1JW8kWZtaH0n2HyAqk4erYRX7fsOlUHdpuWPSJYWoi7K5wkZ8yyCkb7sWfpa7R_2gfBR9X7g8Bi5B2bCWov8rSVSo9KM2QAMB9lPrVjcUD85N86ksC7Zmshx_sJ7n62788thoKGJnF37uQ&amp\;s=1" style="color: rgb(54\, 88\, 153)\; cursor: pointer\; text-decoration: none\; font-family: system-ui\, -apple-system\, BlinkMacSystemFont\, &quot\;.SFNSText-Regular&quot\;\, sans-serif\; font-size: 14px\;" target="_blank">www.uvalde.org/parade</a>
LOCATION:Parade will begin at he 1000 block of North Getty street.
UID:e.2154.6467
SEQUENCE:3
DTSTAMP:20260426T004038Z
URL:https://chamber.uvalde.org/events/details/first-state-bank-of-uvalde-palomino-fest-labor-day-grand-parade-6467
END:VEVENT

END:VCALENDAR
