BEGIN:VCALENDAR
VERSION:2.0
PRODID:-//ChamberMaster//Event Calendar 2.0//EN
METHOD:PUBLISH
X-PUBLISHED-TTL:P3D
REFRESH-INTERVAL:P3D
CALSCALE:GREGORIAN
BEGIN:VEVENT
DTSTART:20220602T170000Z
DTEND:20220602T200000Z
X-MICROSOFT-CDO-ALLDAYEVENT:FALSE
SUMMARY:Free Legal Clinics
DESCRIPTION:Free Legal Clinics for those qualified will be on the first Thursday each month from noon until 3:00 p.m. by telephone hookup with lawyers in Austin at the Texas Legal Center. Sign up online or at the library front desk or call (830)278-2017 for an appointment or more information
X-ALT-DESC;FMTTYPE=text/html:<span style="background-color:rgb(255\, 255\, 255)\; color:rgb(5\, 5\, 5)\; font-family:segoe ui historic\,segoe ui\,helvetica\,arial\,sans-serif\; font-size:15px">Free Legal Clinics for those qualified will be on the first Thursday each month from noon until 3:00 p.m. by telephone hookup with lawyers in Austin at the Texas Legal Center. Sign up online or at the library front desk or call (830)278-2017 for an appointment or more information</span>
LOCATION:El Progreso Memorial Library 301 W Main St Uvalde\, Texas 78801
UID:e.2154.9568
SEQUENCE:3
DTSTAMP:20260421T113121Z
URL:https://chamber.uvalde.org/events/details/free-legal-clinics-06-02-2022-9568
END:VEVENT

END:VCALENDAR
