BEGIN:VCALENDAR
VERSION:2.0
PRODID:-//ChamberMaster//Event Calendar 2.0//EN
METHOD:PUBLISH
X-PUBLISHED-TTL:P3D
REFRESH-INTERVAL:P3D
CALSCALE:GREGORIAN
BEGIN:VEVENT
DTSTART:20220605T160000Z
DTEND:20220605T220000Z
X-MICROSOFT-CDO-ALLDAYEVENT:FALSE
SUMMARY:Funraser For the Families
DESCRIPTION:All Proceeds Earned Great Great Clips in Uvalde will be donated to The Robb Memorial Fund for the families of Robb Elementary.
X-ALT-DESC;FMTTYPE=text/html:All Proceeds Earned Great Great Clips in Uvalde will be donated to The Robb Memorial Fund for the families of Robb Elementary.
LOCATION:3250 East Main St STE. 301\, Uvalde Tx 78001
UID:e.2154.9832
SEQUENCE:3
DTSTAMP:20260423T163834Z
URL:https://chamber.uvalde.org/events/details/funraser-for-the-families-9832
END:VEVENT

END:VCALENDAR
