BEGIN:VCALENDAR
VERSION:2.0
PRODID:-//ChamberMaster//Event Calendar 2.0//EN
METHOD:PUBLISH
X-PUBLISHED-TTL:P3D
REFRESH-INTERVAL:P3D
CALSCALE:GREGORIAN
BEGIN:VEVENT
DTSTART:20220305T010000Z
DTEND:20220305T023000Z
X-MICROSOFT-CDO-ALLDAYEVENT:FALSE
SUMMARY:God's Scrap Iron
DESCRIPTION:As part of the ongoing Music on Main series\, "God's Scrap Iron" will be offering a free concert at 7 p.m. on Friday\, March 4th "under the rotunda" at El Progreso Memorial Library. From their Facebook page:\n\n"We are a group of guys who go around to different venues like nursing homes\, churches\, libraries\, and anyplace that people would like southern gospel music." This encore performance at the library will feature the men and their pianist\, Ruth Anne Cox\, accompanist for the singers: Pastor Jim Boyd (Music Director)\, Clayton Neighbors\, Craig Evans\, Kelly Longbotham\, Fred McNeil\, Rodney Modine\, James Taylor\, Trev Sparks\, Trent Timberlake\, Thomie (Johnny) Williams\, James Alderson of Uvalde is a member but not able to perform on the 4th. These seasoned men are very dedicated to use their voices in praise of God\, putting their hearts and souls into every song. The group formed in Utopia has been singing together for more than twenty years. Most of their members are now from the Leakey area. The concert is open to the public and free but donations for their mission are certainly welcome. Please join us at the library for an evening of inspirational songs!
X-ALT-DESC;FMTTYPE=text/html:<div>As part of the ongoing Music on Main series\, &quot\;God&#39\;s Scrap Iron&quot\; will be offering a free concert at 7 p.m. on Friday\, March 4th &quot\;under the rotunda&quot\; at El Progreso Memorial Library. From their Facebook page:</div>\n\n<div>&quot\;We are a group of guys who go around to different venues like nursing homes\, churches\, libraries\, and anyplace that people would like southern gospel music.&quot\; This encore performance at the library will feature the men and their pianist\, Ruth Anne Cox\, accompanist for the singers: Pastor Jim Boyd (Music Director)\, Clayton Neighbors\, Craig Evans\, Kelly Longbotham\, Fred McNeil\, Rodney Modine\, James Taylor\, Trev Sparks\, Trent Timberlake\, Thomie (Johnny) Williams\, James Alderson of Uvalde is a member but not able to perform on the 4th. These seasoned men are very dedicated to use their voices in praise of God\, putting their hearts and souls into every song. The group formed in Utopia has been singing together for more than twenty years. Most of their members are now from the Leakey area. The concert is open to the public and free but donations for their mission are certainly welcome. Please join us at the library for an evening of inspirational songs!</div>\n
LOCATION:El Progreso Memorial Library 301 W Main St Uvalde\, Texas 78801
UID:e.2154.9564
SEQUENCE:3
DTSTAMP:20260423T212733Z
URL:https://chamber.uvalde.org/events/details/god-s-scrap-iron-9564
END:VEVENT

END:VCALENDAR
