BEGIN:VCALENDAR
VERSION:2.0
PRODID:-//ChamberMaster//Event Calendar 2.0//EN
METHOD:PUBLISH
X-PUBLISHED-TTL:P3D
REFRESH-INTERVAL:P3D
CALSCALE:GREGORIAN
BEGIN:VEVENT
DTSTART:20190612T230000Z
DTEND:20190613T000000Z
X-MICROSOFT-CDO-ALLDAYEVENT:FALSE
SUMMARY:Homebuyers Class
DESCRIPTION:Homebuyers Class presented by Double K Real Estate and Robert Rees- Academy Mortgage\n\n\n\nRSVP: Jennifer Suarez\n\njenniferjosuarez@gmail.com \n\n(830) 279-6923
X-ALT-DESC;FMTTYPE=text/html:Homebuyers Class presented by Double K Real Estate and Robert Rees- Academy Mortgage<br />\n<br />\nRSVP: Jennifer Suarez<br />\njenniferjosuarez@gmail.com&nbsp\;<br />\n(830) 279-6923
LOCATION:Broadway 830 102 E Main St\, Uvalde\, Texas 78801
UID:e.2154.8435
SEQUENCE:3
DTSTAMP:20260426T040850Z
URL:https://chamber.uvalde.org/events/details/homebuyers-class-8435
END:VEVENT

END:VCALENDAR
