BEGIN:VCALENDAR
VERSION:2.0
PRODID:-//ChamberMaster//Event Calendar 2.0//EN
METHOD:PUBLISH
X-PUBLISHED-TTL:P3D
REFRESH-INTERVAL:P3D
CALSCALE:GREGORIAN
BEGIN:VEVENT
DTSTART:20191123T160000Z
DTEND:20191123T200000Z
X-MICROSOFT-CDO-ALLDAYEVENT:FALSE
SUMMARY:John Nance Garner Open House
DESCRIPTION:See demonstrations by the Buffalo Soldiers and enjoy refreshments while we celebrate Cactus Jack's birthday
X-ALT-DESC;FMTTYPE=text/html:See demonstrations by the Buffalo Soldiers and enjoy refreshments while we celebrate Cactus Jack&#39\;s birthday
LOCATION:Briscoe-Garner Museum
UID:e.2154.9237
SEQUENCE:3
DTSTAMP:20260425T191837Z
URL:https://chamber.uvalde.org/events/details/john-nance-garner-open-house-9237
END:VEVENT

END:VCALENDAR
