BEGIN:VCALENDAR
VERSION:2.0
PRODID:-//ChamberMaster//Event Calendar 2.0//EN
METHOD:PUBLISH
X-PUBLISHED-TTL:P3D
REFRESH-INTERVAL:P3D
CALSCALE:GREGORIAN
BEGIN:VEVENT
DTSTART:20200115T150000Z
DTEND:20200115T230000Z
X-MICROSOFT-CDO-ALLDAYEVENT:FALSE
SUMMARY:Leadership Uvalde Class of 2020 Orientation Day
DESCRIPTION:Mandatory Orientation Day for Leadership Uvalde Class of 2020 Acceptee's.
X-ALT-DESC;FMTTYPE=text/html:Mandatory Orientation Day for Leadership Uvalde Class of 2020 Acceptee&#39\;s.
LOCATION:Pecan Room of the SSGT. Willie De Leon Civic Center
UID:e.2154.9245
SEQUENCE:3
DTSTAMP:20260425T161631Z
URL:https://chamber.uvalde.org/events/details/leadership-uvalde-class-of-2020-orientation-day-9245
END:VEVENT

END:VCALENDAR
