BEGIN:VCALENDAR
VERSION:2.0
PRODID:-//ChamberMaster//Event Calendar 2.0//EN
METHOD:PUBLISH
X-PUBLISHED-TTL:P3D
REFRESH-INTERVAL:P3D
CALSCALE:GREGORIAN
BEGIN:VEVENT
DTSTART:20190718T183000Z
DTEND:20190718T200000Z
X-MICROSOFT-CDO-ALLDAYEVENT:FALSE
SUMMARY:LEGO Club Meeting
DESCRIPTION:LEGO Club Meeting
X-ALT-DESC;FMTTYPE=text/html:LEGO Club Meeting
LOCATION:El Progreso Memorial Library
UID:e.2154.9143
SEQUENCE:3
DTSTAMP:20260426T041151Z
URL:https://chamber.uvalde.org/events/details/lego-club-meeting-07-18-2019-9143
END:VEVENT

END:VCALENDAR
