BEGIN:VCALENDAR
VERSION:2.0
PRODID:-//ChamberMaster//Event Calendar 2.0//EN
METHOD:PUBLISH
X-PUBLISHED-TTL:P3D
REFRESH-INTERVAL:P3D
CALSCALE:GREGORIAN
BEGIN:VEVENT
DTSTART:20220309T233000Z
DTEND:20220310T013000Z
X-MICROSOFT-CDO-ALLDAYEVENT:FALSE
SUMMARY:Microsoft Class
DESCRIPTION:Local registered architect Naman Garg of Polaris Architecture will present a free Microsoft Class for those wishing to learn more about Excel and other Microsoft products.  Helpful if those attending can bring a laptop but some can be provided\; call 830/28-2917 to register.
X-ALT-DESC;FMTTYPE=text/html:Local registered architect Naman Garg of Polaris Architecture will present a free Microsoft Class for those wishing to learn more about Excel and other Microsoft products.&nbsp\; Helpful if those attending can bring a laptop but some can be provided\; call 830/28-2917 to register.
LOCATION:El Progreso Memorial Library 301 W Main St Uvalde\, Texas 78801
UID:e.2154.9826
SEQUENCE:3
DTSTAMP:20260423T212454Z
URL:https://chamber.uvalde.org/events/details/microsoft-class-9826
END:VEVENT

END:VCALENDAR
