BEGIN:VCALENDAR
VERSION:2.0
PRODID:-//ChamberMaster//Event Calendar 2.0//EN
METHOD:PUBLISH
X-PUBLISHED-TTL:P3D
REFRESH-INTERVAL:P3D
CALSCALE:GREGORIAN
BEGIN:VEVENT
DTSTART:20200408T190000Z
DTEND:20200408T200000Z
X-MICROSOFT-CDO-ALLDAYEVENT:FALSE
SUMMARY:Monarch Estates Ribbon Cutting POSTPONED TO FUTURE DATE
DESCRIPTION:Help cut the ribbon and welcome this beautiful business to our community!
X-ALT-DESC;FMTTYPE=text/html:Help cut the ribbon and welcome this beautiful business to our community!
LOCATION:Monarch Estates 126 Joe Carper Drive Uvalde\, Texas 78801
UID:e.2154.9531
SEQUENCE:3
DTSTAMP:20260425T123827Z
URL:https://chamber.uvalde.org/events/details/monarch-estates-ribbon-cutting-postponed-to-future-date-9531
END:VEVENT

END:VCALENDAR
