BEGIN:VCALENDAR
VERSION:2.0
PRODID:-//ChamberMaster//Event Calendar 2.0//EN
METHOD:PUBLISH
X-PUBLISHED-TTL:P3D
REFRESH-INTERVAL:P3D
CALSCALE:GREGORIAN
BEGIN:VEVENT
DTSTART:20200115T180000Z
DTEND:20200115T190000Z
X-MICROSOFT-CDO-ALLDAYEVENT:FALSE
SUMMARY:Monthly Board of Directors Meeting
DESCRIPTION:Closed meeting to the Board of Directors.\n\nFor inquiries about presentations/adding of agenda items\, please contact the Chamber Office.
X-ALT-DESC;FMTTYPE=text/html:Closed meeting to the Board of Directors.<br />\nFor inquiries about presentations/adding of agenda items\, please contact the Chamber Office.
LOCATION:SSGT Willie De Leon Civic Center 300 East Main Street
UID:e.2154.6431
SEQUENCE:3
DTSTAMP:20260425T161647Z
URL:https://chamber.uvalde.org/events/details/monthly-board-of-directors-meeting-01-08-2020-6431
END:VEVENT

END:VCALENDAR
