BEGIN:VCALENDAR
VERSION:2.0
PRODID:-//ChamberMaster//Event Calendar 2.0//EN
METHOD:PUBLISH
X-PUBLISHED-TTL:P3D
REFRESH-INTERVAL:P3D
CALSCALE:GREGORIAN
BEGIN:VEVENT
DTSTART:20200209T010000Z
DTEND:20200209T030000Z
X-MICROSOFT-CDO-ALLDAYEVENT:FALSE
SUMMARY:Music on Main Valentine's Spectacular
DESCRIPTION:Music on Main Valentine's Spectacular is a musically enchanting evening for you and your loved one on Saturday\, February 8th\, at 7 pm under the Rotunda at the El Progreso Memorial Library. This magical event\, comprised of love songs\, romantic melodies\, and elegant music\, sets the stage as a fundraiser for the Library and features the marvelous music of Toni Hull\, along with her many talented friends. Valerie at the Tea Room is hosting specially-made refreshments to partake with champagne glasses of sparkling apple cider. There will be lovely flowers available for purchase so come toast the evening with us and surprise your sweetheart with a beautiful flora remembrance of your time together. While the event is free\, a donation of $25 per person is suggested. For more info\, go to www.elprogreso.org or Facebook.
X-ALT-DESC;FMTTYPE=text/html:Music on Main Valentine&#39\;s Spectacular is a musically enchanting evening for you and your loved one on Saturday\, February 8th\, at 7 pm under the Rotunda at the El Progreso Memorial Library. This magical event\, comprised of love songs\, romantic melodies\, and elegant music\, sets the stage as a fundraiser for the Library and features the marvelous music of Toni Hull\, along with her many talented friends. Valerie at the Tea Room is hosting specially-made refreshments to partake with champagne glasses of sparkling apple cider. There will be lovely flowers available for purchase so come toast the evening with us and surprise your sweetheart with a beautiful flora remembrance of your time together. While the event is free\, a donation of $25 per person is suggested. For more info\, go to www.elprogreso.org or Facebook.
LOCATION:El Progreso Memorial Library\, 301 W. Main St.\, Uvalde\, TX 78801
UID:e.2154.9261
SEQUENCE:3
DTSTAMP:20260425T161534Z
URL:https://chamber.uvalde.org/events/details/music-on-main-valentine-s-spectacular-9261
END:VEVENT

END:VCALENDAR
