BEGIN:VCALENDAR
VERSION:2.0
PRODID:-//ChamberMaster//Event Calendar 2.0//EN
METHOD:PUBLISH
X-PUBLISHED-TTL:P3D
REFRESH-INTERVAL:P3D
CALSCALE:GREGORIAN
BEGIN:VEVENT
DTSTART:20190831T160000Z
DTEND:20190831T190000Z
X-MICROSOFT-CDO-ALLDAYEVENT:FALSE
SUMMARY:Play Music on the Porch Day
DESCRIPTION:Join as as we take part in International Play Music on the Porch Day on Saturday\, August 31st from 11am-2pm. Music will be performed by the Uvalde High School Mariachi groups\, the Leona River Players Dulicmer Group and Kaydence Rodriguez. Light lunch will also be available.
X-ALT-DESC;FMTTYPE=text/html:Join as as we take part in International Play Music on the Porch Day on Saturday\, August 31st from 11am-2pm. Music will be performed by the Uvalde High School Mariachi groups\, the Leona River Players Dulicmer Group and Kaydence Rodriguez. Light lunch will also be available.
LOCATION:Briscoe Garner Museum 333 N Park St. Uvalde\, TX 78801
UID:e.2154.9154
SEQUENCE:3
DTSTAMP:20260426T004040Z
URL:https://chamber.uvalde.org/events/details/play-music-on-the-porch-day-9154
END:VEVENT

END:VCALENDAR
