BEGIN:VCALENDAR
VERSION:2.0
PRODID:-//ChamberMaster//Event Calendar 2.0//EN
METHOD:PUBLISH
X-PUBLISHED-TTL:P3D
REFRESH-INTERVAL:P3D
CALSCALE:GREGORIAN
BEGIN:VEVENT
DTSTART:20190830T170000Z
DTEND:20190830T230000Z
X-MICROSOFT-CDO-ALLDAYEVENT:FALSE
SUMMARY:Rosado Insurance Customers Appreciation Day
DESCRIPTION:Music\, Food\, Sodas and gifts. Free for everyone
X-ALT-DESC;FMTTYPE=text/html:Music\, Food\, Sodas and gifts. Free for everyone
LOCATION:2014 E Main St. Uvalde\, Tx 78801
UID:e.2154.9163
SEQUENCE:3
DTSTAMP:20260426T004028Z
URL:https://chamber.uvalde.org/events/details/rosado-insurance-customers-appreciation-day-9163
END:VEVENT

END:VCALENDAR
