BEGIN:VCALENDAR
VERSION:2.0
PRODID:-//ChamberMaster//Event Calendar 2.0//EN
METHOD:PUBLISH
X-PUBLISHED-TTL:P3D
REFRESH-INTERVAL:P3D
CALSCALE:GREGORIAN
BEGIN:VEVENT
DTSTART:20191130T160000Z
DTEND:20191130T210000Z
X-MICROSOFT-CDO-ALLDAYEVENT:FALSE
SUMMARY:Shop Small Saturday
DESCRIPTION:Shop Small on Small Business Saturday! \n\n\n\nOn November 30th\, The Uvalde Area Chamber of Commerce will be giving away FREE Hot Chocolate to the public between Julien's and Mi Vida! \n\n\n\n \n\n\n\nMake THREE purchases totaling $100 or more in one of our 325 Chamber Member businesses that day\, then turn your receipts in to the Chamber "Welcome Booth' to be entered into a drawing to win a gift card to a Chamber Member of your choice
X-ALT-DESC;FMTTYPE=text/html:<div data-block="true" data-editor="e5c0g" data-offset-key="5g1h8-0-0" style="font-family: system-ui\, -apple-system\, BlinkMacSystemFont\, &quot\;.SFNSText-Regular&quot\;\, sans-serif\; caret-color: rgb(28\, 30\, 33)\; color: rgb(28\, 30\, 33)\; font-size: 12px\; white-space: pre-wrap\;">\n<div class="_1mf _1mj" data-offset-key="5g1h8-0-0" style="position: relative\; direction: ltr\; font-family: inherit\;"><span data-offset-key="5g1h8-0-0" style="font-family: inherit\;">Shop Small on Small Business Saturday! </span></div>\n</div>\n\n<div data-block="true" data-editor="e5c0g" data-offset-key="6lpd5-0-0" style="font-family: system-ui\, -apple-system\, BlinkMacSystemFont\, &quot\;.SFNSText-Regular&quot\;\, sans-serif\; caret-color: rgb(28\, 30\, 33)\; color: rgb(28\, 30\, 33)\; font-size: 12px\; white-space: pre-wrap\;">\n<div class="_1mf _1mj" data-offset-key="6lpd5-0-0" style="position: relative\; direction: ltr\; font-family: inherit\;"><span data-offset-key="6lpd5-0-0" style="font-family: inherit\;">On November 30th\, The Uvalde Area Chamber of Commerce will be giving away FREE Hot Chocolate to the public between Julien&#39\;s and Mi Vida! </span></div>\n</div>\n\n<div data-block="true" data-editor="e5c0g" data-offset-key="1j7rl-0-0" style="font-family: system-ui\, -apple-system\, BlinkMacSystemFont\, &quot\;.SFNSText-Regular&quot\;\, sans-serif\; caret-color: rgb(28\, 30\, 33)\; color: rgb(28\, 30\, 33)\; font-size: 12px\; white-space: pre-wrap\;">\n<div class="_1mf _1mj" data-offset-key="1j7rl-0-0" style="position: relative\; direction: ltr\; font-family: inherit\;">&nbsp\;</div>\n</div>\n\n<div data-block="true" data-editor="e5c0g" data-offset-key="7s2e6-0-0" style="font-family: system-ui\, -apple-system\, BlinkMacSystemFont\, &quot\;.SFNSText-Regular&quot\;\, sans-serif\; caret-color: rgb(28\, 30\, 33)\; color: rgb(28\, 30\, 33)\; font-size: 12px\; white-space: pre-wrap\;">\n<div class="_1mf _1mj" data-offset-key="7s2e6-0-0" style="position: relative\; direction: ltr\; font-family: inherit\;"><span data-offset-key="7s2e6-0-0" style="font-family: inherit\;">Make THREE purchases totaling $100 or more in one of our 325 Chamber Member businesses that day\, then turn your receipts in to the Chamber &quot\;Welcome Booth&#39\; to be entered into a drawing to win a gift card to a Chamber Member of your choice</span></div>\n</div>\n
LOCATION:In-between Julien's and Mi Vida Uvalde\, Texas 78801
UID:e.2154.9239
SEQUENCE:3
DTSTAMP:20260425T191913Z
URL:https://chamber.uvalde.org/events/details/shop-small-saturday-9239
END:VEVENT

END:VCALENDAR
