BEGIN:VCALENDAR
VERSION:2.0
PRODID:-//ChamberMaster//Event Calendar 2.0//EN
METHOD:PUBLISH
X-PUBLISHED-TTL:P3D
REFRESH-INTERVAL:P3D
CALSCALE:GREGORIAN
BEGIN:VEVENT
DTSTART:20191124T000000Z
DTEND:20191124T030000Z
X-MICROSOFT-CDO-ALLDAYEVENT:FALSE
SUMMARY:The 2019 Armadillo Downs
DESCRIPTION:St. Phillips Episcopal School invites you to the 2019 Armadillo Downs Derby Party and Benefit.\n\nAll proceeds benefit the students of the school
X-ALT-DESC;FMTTYPE=text/html:St. Phillips Episcopal School invites you to the 2019 Armadillo Downs Derby Party and Benefit.<br />\nAll proceeds benefit the students of the school
LOCATION:Uvalde Country Club
UID:e.2154.9231
SEQUENCE:3
DTSTAMP:20260425T191842Z
URL:https://chamber.uvalde.org/events/details/the-2019-armadillo-downs-9231
END:VEVENT

END:VCALENDAR
