BEGIN:VCALENDAR
VERSION:2.0
PRODID:-//ChamberMaster//Event Calendar 2.0//EN
METHOD:PUBLISH
X-PUBLISHED-TTL:P3D
REFRESH-INTERVAL:P3D
CALSCALE:GREGORIAN
BEGIN:VEVENT
DTSTART;VALUE=DATE:20190808
DTEND;VALUE=DATE:20190810
TRANSP:TRANSPARENT
X-MICROSOFT-CDO-ALLDAYEVENT:TRUE
SUMMARY:The Global Leadership Summit
DESCRIPTION:You have influence and ability to positively impact your community and world. No matter your sphere of influence- in your family\, school\, work\, or church- when you commit to grow your leadership\, everyone around you wins!\n\n\n\nJoin 405\,000+ people around the world for two days of world-class leadership training.\n\n\n\nRegister today!\n\nHerby Ham Activity Center\n\nhttp://bit.ly/GLS19UvaldeACC\n\nUse UACC Member code 19PRTORG for substantial discount! \n\nQuestions?  800-570-9812 or Sherry Martinez 830-900-4554
X-ALT-DESC;FMTTYPE=text/html:You have influence and ability to positively impact your community and world. No matter your sphere of influence- in your family\, school\, work\, or church- when you commit to grow your leadership\, everyone around you wins!<br />\n<br />\nJoin 405\,000+ people around the world for two days of world-class leadership training.<br />\n<br />\nRegister today!<br />\nHerby Ham Activity Center<br />\n<b style="font-family: Helvetica\; font-size: 12px\; text-align: center\;">http://bit.ly/GLS19UvaldeACC</b><br />\n<b style="font-family: Helvetica\; font-size: 12px\; text-align: center\;">Use UACC Member code 19PRTORG for substantial discount!&nbsp\;</b><br />\n<b style="font-family: Helvetica\; font-size: 12px\; text-align: center\;">Questions?&nbsp\; 800-570-9812 or Sherry Martinez 830-900-4554</b><br />\n&nbsp\;
LOCATION:Herby Ham Activity Center\, Uvalde Texas 78801
UID:e.2154.8437
SEQUENCE:3
DTSTAMP:20260426T003916Z
URL:https://chamber.uvalde.org/events/details/the-global-leadership-summit-8437
END:VEVENT

END:VCALENDAR
