BEGIN:VCALENDAR
VERSION:2.0
PRODID:-//ChamberMaster//Event Calendar 2.0//EN
METHOD:PUBLISH
X-PUBLISHED-TTL:P3D
REFRESH-INTERVAL:P3D
CALSCALE:GREGORIAN
BEGIN:VEVENT
DTSTART:20191026T170000Z
DTEND:20191026T210000Z
X-MICROSOFT-CDO-ALLDAYEVENT:FALSE
SUMMARY:Trinity Lutheran Church Annual Fall Fest
DESCRIPTION:Trinity Lutheran Church Annual Fall Festival \n\nOktoberfest Theme\n\nFree beer & bratwurst will be served. Freewill donations accepted to support Bahama Hurricane relief. \n\nVendors welcome\, no charge. Contact Church to sign up.
X-ALT-DESC;FMTTYPE=text/html:Trinity Lutheran Church Annual Fall Festival&nbsp\;<br />\nOktoberfest Theme<br />\nFree beer &amp\; bratwurst will be served. Freewill donations accepted to support Bahama Hurricane relief.&nbsp\;<br />\nVendors welcome\, no charge. Contact Church to sign up.
LOCATION:Trinity Lutheran Church in Trinity's backyard 762 North Getty\, Uvalde\, Texas 78801
UID:e.2154.9211
SEQUENCE:3
DTSTAMP:20260425T211529Z
URL:https://chamber.uvalde.org/events/details/trinity-lutheran-church-annual-fall-fest-9211
END:VEVENT

END:VCALENDAR
