BEGIN:VCALENDAR
VERSION:2.0
PRODID:-//ChamberMaster//Event Calendar 2.0//EN
METHOD:PUBLISH
X-PUBLISHED-TTL:P3D
REFRESH-INTERVAL:P3D
CALSCALE:GREGORIAN
BEGIN:VEVENT
DTSTART:20190715T133000Z
DTEND:20190719T163000Z
X-MICROSOFT-CDO-ALLDAYEVENT:FALSE
SUMMARY:Trinity Lutheran Church VBS
DESCRIPTION:Jesus Saves the World\n\nLift off for an intergalactic adventure and learn about God's plan of salvation from creation to the cross! Just as the Earth revolves around the Sun\, our faith revolves around God's word. Keep Jesus and His Gospel at the center of your children's VBS experiences with Miraculous Mission.\n\n\n\nAll pre-k through 5th grade students\n\n\n\nField trip to Scoboe Planetarium to see Mystery of the Christmas Star\n\nWednesday\, July 17th 8am - 3:30pm\n\nPlease fill out a permission slip Monday at registration\n\nSend a water bottle daily if desired\, send a lunch Wednesday for the field trip.
X-ALT-DESC;FMTTYPE=text/html:Jesus Saves the World<br />\nLift off for an intergalactic adventure and learn about God&#39\;s plan of salvation from creation to the cross! Just as the Earth revolves around the Sun\, our faith revolves around God&#39\;s word. Keep Jesus and His Gospel at the center of your children&#39\;s VBS experiences with Miraculous Mission.<br />\n<br />\nAll pre-k through 5th grade students<br />\n<br />\nField trip to Scoboe Planetarium to see Mystery of the Christmas Star<br />\nWednesday\, July 17th 8am - 3:30pm<br />\nPlease fill out a permission slip Monday at registration<br />\nSend a water bottle daily if desired\, send a lunch Wednesday for the field trip.
LOCATION:762 North Getty Street Uvalde\, Texas 78801
UID:e.2154.8436
SEQUENCE:3
DTSTAMP:20260426T023424Z
URL:https://chamber.uvalde.org/events/details/trinity-lutheran-church-vbs-8436
END:VEVENT

END:VCALENDAR
