BEGIN:VCALENDAR
VERSION:2.0
PRODID:-//ChamberMaster//Event Calendar 2.0//EN
METHOD:PUBLISH
X-PUBLISHED-TTL:P3D
REFRESH-INTERVAL:P3D
CALSCALE:GREGORIAN
BEGIN:VEVENT
DTSTART:20200405T153000Z
DTEND:20200410T204000Z
X-MICROSOFT-CDO-ALLDAYEVENT:FALSE
SUMMARY:Trinity Lutheran Holy Week Schedule
DESCRIPTION:Palm Sunday through Good Friday Holy Week worship and devotionals. Begins with Palm Sunday Worship at 10:30 am. Continues at 10:30 am Monday\, Tuesday and Wednesday with a daily devotional. And concludes on Good Friday with 7 devotionals every 20 minutes beginning at 3:40 pm followed by worship service at 6:00 pm. All live streaming on our Facebook page facebook.com/trinitylutheranchurchuvalde.
X-ALT-DESC;FMTTYPE=text/html:Palm Sunday through Good Friday Holy Week worship and devotionals. Begins with Palm Sunday Worship at 10:30 am. Continues at 10:30 am Monday\, Tuesday and Wednesday with a daily devotional. And concludes on Good Friday with 7 devotionals every 20 minutes beginning at 3:40 pm followed by worship service at 6:00 pm. All live streaming on our Facebook page facebook.com/trinitylutheranchurchuvalde.
LOCATION:Online live streaming on Facebook.
UID:e.2154.9532
SEQUENCE:3
DTSTAMP:20260425T123321Z
URL:https://chamber.uvalde.org/events/details/trinity-lutheran-holy-week-schedule-9532
END:VEVENT

END:VCALENDAR
