BEGIN:VCALENDAR
VERSION:2.0
PRODID:-//ChamberMaster//Event Calendar 2.0//EN
METHOD:PUBLISH
X-PUBLISHED-TTL:P3D
REFRESH-INTERVAL:P3D
CALSCALE:GREGORIAN
BEGIN:VEVENT
DTSTART:20191014T230000Z
DTEND:20191015T000000Z
X-MICROSOFT-CDO-ALLDAYEVENT:FALSE
SUMMARY:Uvalde Classical Board Meeting
DESCRIPTION:
X-ALT-DESC;FMTTYPE=text/html:
LOCATION:400 N Getty St.
UID:e.2154.9209
SEQUENCE:3
DTSTAMP:20260425T225055Z
URL:https://chamber.uvalde.org/events/details/uvalde-classical-board-meeting-9209
END:VEVENT

END:VCALENDAR
