BEGIN:VCALENDAR
VERSION:2.0
PRODID:-//ChamberMaster//Event Calendar 2.0//EN
METHOD:PUBLISH
X-PUBLISHED-TTL:P3D
REFRESH-INTERVAL:P3D
CALSCALE:GREGORIAN
BEGIN:VEVENT
DTSTART:20200401T160000Z
DTEND:20200401T163000Z
X-MICROSOFT-CDO-ALLDAYEVENT:FALSE
SUMMARY:Uvalde County Proclamation: April Child Abuse Prevention Month
DESCRIPTION:
X-ALT-DESC;FMTTYPE=text/html:
LOCATION:Northeast Corner of the Courthouse Lawn
UID:e.2154.9265
SEQUENCE:3
DTSTAMP:20260425T123916Z
URL:https://chamber.uvalde.org/events/details/uvalde-county-proclamation-april-child-abuse-prevention-month-9265
END:VEVENT

END:VCALENDAR
