BEGIN:VCALENDAR
VERSION:2.0
PRODID:-//ChamberMaster//Event Calendar 2.0//EN
METHOD:PUBLISH
X-PUBLISHED-TTL:P3D
REFRESH-INTERVAL:P3D
CALSCALE:GREGORIAN
BEGIN:VEVENT
DTSTART:20191015T210000Z
DTEND:20191015T220000Z
X-MICROSOFT-CDO-ALLDAYEVENT:FALSE
SUMMARY:Uvalde Memorial Hospital OPEN HOUSE
DESCRIPTION:We will have staff guided tours of our Women's Imaging Center\, refreshments and a raffle\, and guests can enter to win a gift certificate for an annual mammogram.
X-ALT-DESC;FMTTYPE=text/html:<blockquote style="caret-color: rgb(0\, 0\, 0)\; color: rgb(0\, 0\, 0)\; font-style: normal\; font-family: Helvetica\; font-size: 12px\;" type="cite">\n<div dir="ltr">\n<div style="word-wrap: break-word\; -webkit-nbsp-mode: space\; line-break: after-white-space\; font-size: 14px\; font-family: Calibri\, sans-serif\;"><span id="OLK_SRC_BODY_SECTION">We will have staff guided tours of our Women&rsquo\;s Imaging Center\, refreshments and a raffle\, and guests can enter&nbsp\;to win a gift certificate for an annual mammogram.</span></div>\n</div>\n</blockquote>\n
LOCATION:Uvalde Memorial Hospital
UID:e.2154.9214
SEQUENCE:3
DTSTAMP:20260425T225222Z
URL:https://chamber.uvalde.org/events/details/uvalde-memorial-hospital-open-house-9214
END:VEVENT

END:VCALENDAR
